BEGIN:VCALENDAR
VERSION:2.0
PRODID:-//Muzeum Pamięci Ofiar Rzezi Wołyńskiej - ECPv6.8.3//NONSGML v1.0//EN
CALSCALE:GREGORIAN
METHOD:PUBLISH
X-WR-CALNAME:Muzeum Pamięci Ofiar Rzezi Wołyńskiej
X-ORIGINAL-URL:https://muzeumwolyn.pl
X-WR-CALDESC:Events for Muzeum Pamięci Ofiar Rzezi Wołyńskiej
REFRESH-INTERVAL;VALUE=DURATION:PT1H
X-Robots-Tag:noindex
X-PUBLISHED-TTL:PT1H
BEGIN:VTIMEZONE
TZID:Europe/Warsaw
BEGIN:DAYLIGHT
TZOFFSETFROM:+0100
TZOFFSETTO:+0200
TZNAME:CEST
DTSTART:20240331T010000
END:DAYLIGHT
BEGIN:STANDARD
TZOFFSETFROM:+0200
TZOFFSETTO:+0100
TZNAME:CET
DTSTART:20241027T010000
END:STANDARD
BEGIN:DAYLIGHT
TZOFFSETFROM:+0100
TZOFFSETTO:+0200
TZNAME:CEST
DTSTART:20250330T010000
END:DAYLIGHT
BEGIN:STANDARD
TZOFFSETFROM:+0200
TZOFFSETTO:+0100
TZNAME:CET
DTSTART:20251026T010000
END:STANDARD
END:VTIMEZONE
BEGIN:VEVENT
DTSTART;TZID=Europe/Warsaw:20250713T090000
DTEND;TZID=Europe/Warsaw:20250713T130000
DTSTAMP:20260423T000230
CREATED:20250707T114341Z
LAST-MODIFIED:20250707T114342Z
UID:841-1752397200-1752411600@muzeumwolyn.pl
SUMMARY:82.Rocznica Krwawej Niedzieli - uroczystości Stowarzyszenia "Pamięć i Nadzieja"
DESCRIPTION:godz. 9.00 Msza Święta w intencji Ofiar Rzezi Wołyńskiej w Bazylice Narodzenia NMP w Chełmie \n\n\n\ngodz. 11.00 Spotkanie przy Piecie Wołyńskiej na Skwerze im 27. Wołyńskiej Dywizji Piechoty AK \n\n\n\n-przemówienia okolicznościowe \n\n\n\n-złożenie kwiatów
URL:https://muzeumwolyn.pl/wydarzenia/82-rocznica-krwawej-niedzieli-uroczystosci-stowarzyszenia-pamiec-i-nadzieja/
END:VEVENT
BEGIN:VEVENT
DTSTART;TZID=Europe/Warsaw:20250712T080000
DTEND;TZID=Europe/Warsaw:20250712T210000
DTSTAMP:20260423T000230
CREATED:20250610T114320Z
LAST-MODIFIED:20250707T113730Z
UID:704-1752307200-1752354000@muzeumwolyn.pl
SUMMARY:Uroczyste obchody 82. rocznicy Krwawej Niedzieli na Wołyniu\, organizowane przez Muzeum DZIEŃ DRUGI
DESCRIPTION:Muzeum od momentu powstania organizuje uroczystości związane z rocznicą Krwawej Niedzieli na Wołyniu. W tym roku mają one charakter dwudniowy. \n\n\n\ngodz. 10.00 Bieg Pamięci Ofiar Wołynia (start i meta na terenie muzeum\, ul. Hrubieszowska 102)  \n\n\n\ngodz. 16.00 Promocja wydawnictwa Edwarda Gigilewicza\, Leona Popka i Pawła Skroka pt. „Ewidencja uchodźców z Wołynia przebywających na terenie gminy miejskiej w Chełmie. Edycja krytyczna dokumentu z 1943 roku”. Wydarzenie odbędzie się w Chełmskiej Bibliotece Publicznej przy ul. Partyzantów 40. Po promocji nastąpi spotkanie z rodzinami Ofiar Rzezi Wołyńskiej. \n\n\n\ngodz. 18.00 projekcja filmu „Wołyń” w reżyserii Wojciecha Smarzowskiego (sala widowiskowa Chełmskiego Domu Kultury)
URL:https://muzeumwolyn.pl/wydarzenia/uroczysty-obchody-82-rocznicy-rzezi-wolynskiej-organizowane-przez-muzeum/
END:VEVENT
BEGIN:VEVENT
DTSTART;TZID=Europe/Warsaw:20250712T080000
DTEND;TZID=Europe/Warsaw:20250712T120000
DTSTAMP:20260423T000230
CREATED:20250610T115544Z
LAST-MODIFIED:20250610T115544Z
UID:707-1752307200-1752321600@muzeumwolyn.pl
SUMMARY:III Bieg Patriotyczny Pamięci Wołynia
DESCRIPTION:W ramach corocznych uroczystości wołyńskich odbędzie się III Bieg Patriotyczny Pamięci Wołynia. Uczestnicy będą mieli do wyboru jeden z dwóch dystansów: symboliczny o długości 1943 metrów z trasa zlokalizowaną na terenie muzeum oraz bieg właściwy o długości 5 km ulicami Chełma. \n\n\n\nStart i meta zlokalizowane są przy siedzibie Muzeum Pamięci Ofiar Rzezi Wołyńskiej przy ul. Hrubieszowskiej 102.
URL:https://muzeumwolyn.pl/wydarzenia/iii-bieg-patriotyczny-pamieci-wolynia/
END:VEVENT
BEGIN:VEVENT
DTSTART;TZID=Europe/Warsaw:20250711T190000
DTEND;TZID=Europe/Warsaw:20250711T223000
DTSTAMP:20260423T000230
CREATED:20250707T113416Z
LAST-MODIFIED:20250707T113631Z
UID:835-1752260400-1752273000@muzeumwolyn.pl
SUMMARY:Uroczyste obchody 82. rocznicy Krwawej Niedzieli na Wołyniu\, organizowane przez Muzeum DZIEŃ PIERWSZY
DESCRIPTION:godz. 19.00 Msza Święta w Bazylice Narodzenia Najświętszej Maryi Panny w intencji Ofiar Rzezi Wołyńskiej \n\n\n\ngodz. 20.00 Przemarsz uczestników na teren Muzeum przy ul. Hrubieszowskiej 102\, \n\n\n\ngodz. 20.30 Uroczystości patriotyczne na terenie Muzeum \n\n\n\n-powitanie gości \n\n\n\n-przemówienie pana prezydenta elekta dr Karola Nawrockiego \n\n\n\n-przemówienia okolicznościowe \n\n\n\n-wciągnięcie flagi państwowej na maszt \n\n\n\n-podpisanie dokumentacji przetargowej do ogłoszenia postępowania na budowę Muzeum \n\n\n\ngodz. 21.00 Koncert Pieśni Pustych Nocy w wykonaniu Starosielskiego Bractwa Śpiewaczego (sala koncertowa Państwowej Szkoły Muzycznej I i II stopnia im. I. Haendel\, ul. Hrubieszowska 102)
URL:https://muzeumwolyn.pl/wydarzenia/uroczyste-obchody-82-rocznicy-rzezi-wolynskiej-organizowane-przez-muzeum/
END:VEVENT
BEGIN:VEVENT
DTSTART;TZID=Europe/Warsaw:20250711T080000
DTEND;TZID=Europe/Warsaw:20250711T233000
DTSTAMP:20260423T000230
CREATED:20250610T114001Z
LAST-MODIFIED:20250610T114002Z
UID:702-1752220800-1752276600@muzeumwolyn.pl
SUMMARY:Narodowy Dzień Pamięci o Polakach – Ofiarach Ludobójstwa dokonanego przez OUN i UPA na ziemiach wschodnich II Rzeczypospolitej Polskiej
DESCRIPTION:
URL:https://muzeumwolyn.pl/wydarzenia/narodowy-dzien-pamieci-o-polakach-ofiarach-ludobojstwa-dokonanego-przez-oun-i-upa-na-ziemiach-wschodnich-ii-rzeczypospolitej-polskiej/
END:VEVENT
BEGIN:VEVENT
DTSTART;TZID=Europe/Warsaw:20240712T180000
DTEND;TZID=Europe/Warsaw:20240712T190000
DTSTAMP:20260423T000230
CREATED:20240627T114150Z
LAST-MODIFIED:20240708T072756Z
UID:394-1720807200-1720810800@muzeumwolyn.pl
SUMMARY:Requiem\, W. A. Mozart
DESCRIPTION:Koncert w wykonaniu Orkiestry Symfonicznej im. Karola Namysłowskiego w Zamościu\, z towarzyszeniem:  \n\n\n\nSylwia Strugińska (sopran)Katarzyna Nowosad (mezzosopran)Michał Jopek (tenor)Sebastian Rutkowski (bas)Tadeusz Wicherek (dyrygent) \n\n\n\nMiejsce: Muzeum Pamięci Ofiar Rzezi Wołyńskiej\, ul. Hrubieszowska 102\, Chełm
URL:https://muzeumwolyn.pl/wydarzenia/requiem-w-a-mozart/
END:VEVENT
BEGIN:VEVENT
DTSTART;TZID=Europe/Warsaw:20240712T143000
DTEND;TZID=Europe/Warsaw:20240712T170000
DTSTAMP:20260423T000230
CREATED:20240708T072625Z
LAST-MODIFIED:20240708T072705Z
UID:417-1720794600-1720803600@muzeumwolyn.pl
SUMMARY:Uroczystości w Chełmskiej Bibliotece Publicznej
DESCRIPTION:godz. 14:30 Kościoły i kaplice na Wołyniu z obrazami Włodzimierza Sławosza Dębskiego. Wystawa przygotowana przez Oddziałowe Biuro Edukacji IPN w Lublinie \n\n\n\ngodz. 14:45 Oficjalne otwarcie uroczystości \n\n\n\ngodz. 15:00 Panel dyskusyjny dotyczący publikacji: Kościoły i kaplice na Wołyniu z obrazami Włodzimierza Sławosza Dębskiego oraz Dokumenty zbrodni Wołyńskiej t. I -IIPaneliści: dr hab. Tadeusz Zych\, dr hab. Edward Gigilewicz\, dr Paweł Sokołowski\, dr Leon Popek \n\n\n\ngodz. 16:30 Nadanie osobom zasłużonym odznaczenia Krzyż Obrońców Wołynia \n\n\n\nMiejsce: Chełmska Biblioteka Publiczna\, ul. Partyzantów 40
URL:https://muzeumwolyn.pl/wydarzenia/uroczystosci-w-chelmskiej-bibliotece-publicznej/
END:VEVENT
BEGIN:VEVENT
DTSTART;TZID=Europe/Warsaw:20240712T120000
DTEND;TZID=Europe/Warsaw:20240712T130000
DTSTAMP:20260423T000230
CREATED:20240708T073001Z
LAST-MODIFIED:20240708T073002Z
UID:421-1720785600-1720789200@muzeumwolyn.pl
SUMMARY:Msza Św.
DESCRIPTION:Msza Św. w intencji Ofiar Rzezi Wołyńskiej \n\n\n\nMiejsce: Parafia pw. Miłosierdzia Bożego w Chełmie\, ul. ks. Zygfryda Berezeckiego 1
URL:https://muzeumwolyn.pl/wydarzenia/msza-sw/
END:VEVENT
BEGIN:VEVENT
DTSTART;TZID=Europe/Warsaw:20240712T100000
DTEND;TZID=Europe/Warsaw:20240712T120000
DTSTAMP:20260423T000230
CREATED:20240626T061801Z
LAST-MODIFIED:20240626T061802Z
UID:391-1720778400-1720785600@muzeumwolyn.pl
SUMMARY:II Bieg Patriotyczny Pamięci Wołynia
DESCRIPTION:12 lipca\, w ramach uroczystości wołyńskich\, o godzinie 10:00 odbędzie się II Bieg Patriotyczny Pamięci Wołynia. \n\n\n\nPodobnie jak przed rokiem\, na uczestników czekać będą dwa dystanse: symboliczny dystans o długości 1943 metrów oraz bieg na 5 kilometrów. \n\n\n\nTym razem start i meta biegu zlokalizowane będą przy siedzibie Muzeum Pamięci Ofiar Rzezi Wołyńskiej przy ul. Hrubieszowskiej 102. \n\n\n\nPrzebieg trasy\, regulamin oraz formularz zgłoszeniowy dostępny pod poniższym linkiem:
URL:https://muzeumwolyn.pl/wydarzenia/ii-bieg-patriotyczny-pamieci-wolynia/
END:VEVENT
BEGIN:VEVENT
DTSTART;TZID=Europe/Warsaw:20240712T080000
DTEND;TZID=Europe/Warsaw:20240712T170000
DTSTAMP:20260423T000230
CREATED:20240604T084323Z
LAST-MODIFIED:20240626T061443Z
UID:371-1720771200-1720803600@muzeumwolyn.pl
SUMMARY:81. rocznica Krwawej Niedzieli
DESCRIPTION:
URL:https://muzeumwolyn.pl/wydarzenia/81-rocznica-krwawej-niedzieli/
END:VEVENT
BEGIN:VEVENT
DTSTART;TZID=Europe/Warsaw:20240711T120000
DTEND;TZID=Europe/Warsaw:20240711T130000
DTSTAMP:20260423T000230
CREATED:20240708T071349Z
LAST-MODIFIED:20240708T071350Z
UID:415-1720699200-1720702800@muzeumwolyn.pl
SUMMARY:Otwarcie wystawy
DESCRIPTION:Otwarcie wystawy Sąsiedzka krew. Ludobójstwo wołyńsko-galicyjskie 1943-1945.Wystawa przygotowana przez Oddziałowe Biuro Edukacji IPN w Lublinie \n\n\n\nMiejsce: Skwer Pamięci Ofiar Rzezi Wołyńskiej
URL:https://muzeumwolyn.pl/wydarzenia/otwarcie-wystawy/
END:VEVENT
END:VCALENDAR