BEGIN:VCALENDAR
VERSION:2.0
PRODID:-//Muzeum Pamięci Ofiar Rzezi Wołyńskiej - ECPv6.8.3//NONSGML v1.0//EN
CALSCALE:GREGORIAN
METHOD:PUBLISH
X-ORIGINAL-URL:https://muzeumwolyn.pl
X-WR-CALDESC:Events for Muzeum Pamięci Ofiar Rzezi Wołyńskiej
REFRESH-INTERVAL;VALUE=DURATION:PT1H
X-Robots-Tag:noindex
X-PUBLISHED-TTL:PT1H
BEGIN:VTIMEZONE
TZID:Europe/Warsaw
BEGIN:DAYLIGHT
TZOFFSETFROM:+0100
TZOFFSETTO:+0200
TZNAME:CEST
DTSTART:20250330T010000
END:DAYLIGHT
BEGIN:STANDARD
TZOFFSETFROM:+0200
TZOFFSETTO:+0100
TZNAME:CET
DTSTART:20251026T010000
END:STANDARD
END:VTIMEZONE
BEGIN:VEVENT
DTSTART;TZID=Europe/Warsaw:20250711T080000
DTEND;TZID=Europe/Warsaw:20250711T233000
DTSTAMP:20260423T050258
CREATED:20250610T114001Z
LAST-MODIFIED:20250610T114002Z
UID:702-1752220800-1752276600@muzeumwolyn.pl
SUMMARY:Narodowy Dzień Pamięci o Polakach – Ofiarach Ludobójstwa dokonanego przez OUN i UPA na ziemiach wschodnich II Rzeczypospolitej Polskiej
DESCRIPTION:
URL:https://muzeumwolyn.pl/wydarzenia/narodowy-dzien-pamieci-o-polakach-ofiarach-ludobojstwa-dokonanego-przez-oun-i-upa-na-ziemiach-wschodnich-ii-rzeczypospolitej-polskiej/
END:VEVENT
BEGIN:VEVENT
DTSTART;TZID=Europe/Warsaw:20250711T190000
DTEND;TZID=Europe/Warsaw:20250711T223000
DTSTAMP:20260423T050258
CREATED:20250707T113416Z
LAST-MODIFIED:20250707T113631Z
UID:835-1752260400-1752273000@muzeumwolyn.pl
SUMMARY:Uroczyste obchody 82. rocznicy Krwawej Niedzieli na Wołyniu\, organizowane przez Muzeum DZIEŃ PIERWSZY
DESCRIPTION:godz. 19.00 Msza Święta w Bazylice Narodzenia Najświętszej Maryi Panny w intencji Ofiar Rzezi Wołyńskiej \n\n\n\ngodz. 20.00 Przemarsz uczestników na teren Muzeum przy ul. Hrubieszowskiej 102\, \n\n\n\ngodz. 20.30 Uroczystości patriotyczne na terenie Muzeum \n\n\n\n-powitanie gości \n\n\n\n-przemówienie pana prezydenta elekta dr Karola Nawrockiego \n\n\n\n-przemówienia okolicznościowe \n\n\n\n-wciągnięcie flagi państwowej na maszt \n\n\n\n-podpisanie dokumentacji przetargowej do ogłoszenia postępowania na budowę Muzeum \n\n\n\ngodz. 21.00 Koncert Pieśni Pustych Nocy w wykonaniu Starosielskiego Bractwa Śpiewaczego (sala koncertowa Państwowej Szkoły Muzycznej I i II stopnia im. I. Haendel\, ul. Hrubieszowska 102)
URL:https://muzeumwolyn.pl/wydarzenia/uroczyste-obchody-82-rocznicy-rzezi-wolynskiej-organizowane-przez-muzeum/
END:VEVENT
END:VCALENDAR