BEGIN:VCALENDAR
VERSION:2.0
PRODID:-//Muzeum Pamięci Ofiar Rzezi Wołyńskiej - ECPv6.8.3//NONSGML v1.0//EN
CALSCALE:GREGORIAN
METHOD:PUBLISH
X-WR-CALNAME:Muzeum Pamięci Ofiar Rzezi Wołyńskiej
X-ORIGINAL-URL:https://muzeumwolyn.pl
X-WR-CALDESC:Events for Muzeum Pamięci Ofiar Rzezi Wołyńskiej
REFRESH-INTERVAL;VALUE=DURATION:PT1H
X-Robots-Tag:noindex
X-PUBLISHED-TTL:PT1H
BEGIN:VTIMEZONE
TZID:Europe/Warsaw
BEGIN:DAYLIGHT
TZOFFSETFROM:+0100
TZOFFSETTO:+0200
TZNAME:CEST
DTSTART:20240331T010000
END:DAYLIGHT
BEGIN:STANDARD
TZOFFSETFROM:+0200
TZOFFSETTO:+0100
TZNAME:CET
DTSTART:20241027T010000
END:STANDARD
END:VTIMEZONE
BEGIN:VEVENT
DTSTART;TZID=Europe/Warsaw:20240711T120000
DTEND;TZID=Europe/Warsaw:20240711T130000
DTSTAMP:20260423T213231
CREATED:20240708T071349Z
LAST-MODIFIED:20240708T071350Z
UID:415-1720699200-1720702800@muzeumwolyn.pl
SUMMARY:Otwarcie wystawy
DESCRIPTION:Otwarcie wystawy Sąsiedzka krew. Ludobójstwo wołyńsko-galicyjskie 1943-1945.Wystawa przygotowana przez Oddziałowe Biuro Edukacji IPN w Lublinie \n\n\n\nMiejsce: Skwer Pamięci Ofiar Rzezi Wołyńskiej
URL:https://muzeumwolyn.pl/wydarzenia/otwarcie-wystawy/
END:VEVENT
END:VCALENDAR